Workbook
Name \a: #REF!
Name \b: #REF!
Name \p: #REF!
Name __450dia_bored_length: #REF!
Name addresses: #REF!
Name BFA_Det: #REF!
Name BFA_FlatBlock: #REF!
Name BFA_LgFlat: #REF!
Name BFA_Semi: #REF!
Name BFA_SmFlat: #REF!
Name Blast_Wall_Pile_Length: #REF!
Name buildingTypes: #REF!
Name ClientName: #REF!
Name CO2_1_ELEC: #REF!
Name CO2_1_GAS: #REF!
Name CO2_2_ELEC: #REF!
Name CO2_2_GAS: #REF!
Name CO2_3_ELEC: #REF!
Name CO2_3_GAS: #REF!
Name Dates: #REF!
Name dfgd: #REF!
Name DoorArea: #REF!
Name DoorHeatLossAnnual: #REF!
Name Element_List: OFFSET(#REF!,1,0,#REF!,1)
Name ElementName: #REF!
Name ElementTypes: #REF!
Name emitters: '[1]Elemental Database'!#REF!
Name emitters: '[2]Elemental Database'!#REF!
Name Fenster_Anzahl: #REF!
Name Fenster_Auslegungstemperatur_Eigene_Eingabe: #REF!
Name Fenster_Behaglichkeit_Ausnahme: #REF!
Name Fenster_Bezeichnung: #REF!
Name Fenster_Einbau: #REF!
Name Fenster_eingebaut: #REF!
Name Fenster_EnerPHit_Ausnahmeregelung: #REF!
Name Fenster_Rahmen: #REF!
Name Fenster_Rahmen_Sortierung: #REF!
Name Fenster_Rohbaumasze_Breite: #REF!
Name Fenster_Rohbaumasze_Hoehe: #REF!
Name Fenster_Variantenauswahl: #REF!
Name Fenster_Verglasung: #REF!
Name Fenster_Verglasung_Sortierung: #REF!
Name Fensterdaten: #REF!
Name Fernwaerme_Nutzungsgrad_Waermeuebergabestation: #REF!
Name Fernwaerme_Waermequelle: #REF!
Name Flaechen_Flaecheneingabe_U_Wert_Aussentuer: #REF!
Name FloorHeatLossAnnual: #REF!
Name FrameTypes: #REF!
Name FrameTypeTable: #REF!
Name GainUtilisationRatio: #REF!
Name GFA: #REF!
Name GIFA: #REF!
Name Gt: #REF!
Name HeatingGain: #REF!
Name Hilfsstrom_Hilfsstrom_Sonst_Normalbedarf: #REF!
Name HLA: #REF!
Name inclination: #REF!
Name InternalGainsAnnual: #REF!
Name InternalPoA: #REF!
Name Kessel_Bauart_Waermeerzeuger: #REF!

Sheet Front Cover
R3: Net Zero Carbon
R4: Gloucestershire
Y6: Cost detail for net zero specifications
W9: 46274

Sheet Cost Summary All Resi
AA2: Part L 2021 | AD2: =H6 -> Gloucestershire | AE2: =VLOOKUP(AD2,'[2]BCIS Localisation'!$A:$G,2,FALSE)/100 -> 0.93
B3: Consolidated cost analyses | AA3: FHS Part L 2026
B5: Base cost year | C5: Q2 2026 | D5: select dropdown to change year | E5: select dropdown to change year
B6: Location factor adjust | C6: =AE2 -> 0.93 | H6: Gloucestershire
B7: Oncost uplift for projects delivered by contractors
B8: Baseline | C8: Part L 2021
C10: Housing
C11: =[2]Contents!B13 -> Detached house | G11: =[2]Contents!B14 -> Semi-detached house | K11: =[2]Contents!B17 -> Bungalow | O11: =[2]Contents!B15 -> Mid-rise block of flats | S11: =[2]Contents!B16 -> Low-rise block of flats
C12: =Detached!H5 -> Level 1b (SHD 15-20) | D12: =Detached!F5 -> Part L 2021 | E12: =Detached!G5 -> FHS Part L 2026 | F12: =Detached!K5 -> Level 2 (SHD 20/ EUI 35) | G12: =C12 -> Level 1b (SHD 15-20) | H12: =D12 -> Part L 2021 | I12: =E12 -> FHS Part L 2026 | J12: =F12 -> Level 2 (SHD 20/ EUI 35) | K12: =Bungalow!H5 -> Level 1a (SHD 30) | L12: =D12 -> Part L 2021 | M12: =E12 -> FHS Part L 2026 | N12: =F12 -> Level 2 (SHD 20/ EUI 35) | O12: =G12 -> Level 1b (SHD 15-20) | P12: =H12 -> Part L 2021 | Q12: =I12 -> FHS Part L 2026 | R12: =J12 -> Level 2 (SHD 20/ EUI 35) | S12: =C12 -> Level 1b (SHD 15-20) | T12: =D12 -> Part L 2021 | U12: =E12 -> FHS Part L 2026 | V12: =F12 -> Level 2 (SHD 20/ EUI 35)
B13: GIA | C13: =Detached!C19 -> 142 | D13: =C13 -> 142 | E13: =C13 -> 142 | F13: =D13 -> 142 | G13: =Semi!C19 -> 93 | H13: =G13 -> 93 | I13: =G13 -> 93 | J13: =H13 -> 93 | K13: =Bungalow!C19 -> 54.5 | L13: =K13 -> 54.5 | M13: =K13 -> 54.5 | N13: =K13 -> 54.5 | O13: ='[2]Mid rise'!C19 -> 3201.6 | P13: =O13 -> 3201.6 | Q13: =O13 -> 3201.6 | R13: =P13 -> 3201.6 | S13: ='Low rise'!C19 -> 649 | T13: =S13 -> 649 | U13: =S13 -> 649 | V13: =T13 -> 649
B14: Units | C14: 1 | D14: 1 | E14: 1 | F14: 1 | G14: 1 | H14: 1 | I14: 1 | J14: 1 | K14: 1 | L14: 1 | M14: 1 | N14: 1 | O14: 1 | P14: 1 | Q14: 1 | R14: 1 | S14: ='Low rise'!C2 -> 7 | T14: =S14 -> 7 | U14: =S14 -> 7 | V14: =S14 -> 7
B15: Base cost
B16: Fabric & Ventilation | C16: =IF($C$8=$AA$2,SUM(Detached!AC6:AC20)/'Cost Summary All Resi'!C13,SUM(Detached!AI6:AI20)/'Cost Summary All Resi'!C13) -> 59.559802 | D16: =IF($C$8=$AA$2,SUM(Detached!AA6:AA20)/'Cost Summary All Resi'!D13,SUM(Detached!AG6:AG20)/'Cost Summary All Resi'!D13) -> 0 | E16: =IF($C$8=$AA$2,SUM(Detached!AB6:AB20)/'Cost Summary All Resi'!E13,SUM(Detached!AH6:AH20)/'Cost Summary All Resi'!E13) -> 0.54850269 | F16: =IF($C$8=$AA$2,SUM(Detached!AF6:AF20)/'Cost Summary All Resi'!F13,SUM(Detached!AL6:AL20)/'Cost Summary All Resi'!F13) -> 98.111794 | G16: =IF($C$8=$AA$2,SUM(Semi!AC6:AC20)/G13,SUM(Semi!AI6:AI20)/G13) -> 52.750365 | H16: =IF($C$8=$AA$2,SUM(Semi!AA6:AA20)/H13,SUM(Semi!AG6:AG20)/H13) -> 0 | I16: =IF($C$8=$AA$2,SUM(Semi!AB6:AB20)/I13,SUM(Semi!AH6:AH20)/I13) -> 0.54850269 | J16: =IF($C$8=$AA$2,SUM(Semi!AF6:AF20)/J13,SUM(Semi!AL6:AL20)/J13) -> 79.537161 | K16: =IF($C$8=$AA$2,SUM(Bungalow!AC6:AC20)/K13,SUM(Bungalow!AI6:AI20)/K13) -> 71.787193 | L16: =IF($C$8=$AA$2,SUM(Bungalow!AA6:AA20)/L13,SUM(Bungalow!AG6:AG20)/L13) -> 0 | M16: =IF($C$8=$AA$2,SUM(Bungalow!AB6:AB20)/M13,SUM(Bungalow!AH6:AH20)/M13) -> 0.54850269 | N16: =IF($C$8=$AA$2,SUM(Bungalow!AF6:AF20)/N13,SUM(Bungalow!AL6:AL20)/N13) -> 92.264887 | O16: =IF($C$8=$AA$2,SUM('[2]Mid rise'!AC6:AC20)/O13,SUM('[2]Mid rise'!AI6:AI20)/O13) -> 40.452957 | P16: =IF($C$8=$AA$2,SUM('[2]Mid rise'!AA6:AA20)/P13,SUM('[2]Mid rise'!AG6:AG20)/P13) -> 0 | Q16: =IF($C$8=$AA$2,SUM('[2]Mid rise'!AB6:AB20)/Q13,SUM('[2]Mid rise'!AH6:AH20)/Q13) -> 0.23981015 | R16: =IF($C$8=$AA$2,SUM('[2]Mid rise'!AF6:AF20)/R13,SUM('[2]Mid rise'!AL6:AL20)/R13) -> 81.472855 | S16: =IF($C$8=$AA$2,SUM('Low rise'!AC6:AC20)/S13,SUM('Low rise'!AI6:AI20)/S13) -> 69.13523 | T16: =IF($C$8=$AA$2,SUM('Low rise'!AA6:AA20)/T13,SUM('Low rise'!AG6:AG20)/T13) -> 0 | U16: =IF($C$8=$AA$2,SUM('Low rise'!AB6:AB20)/U13,SUM('Low rise'!AH6:AH20)/U13) -> -1.8270003 | V16: =IF($C$8=$AA$2,SUM('Low rise'!AF6:AF20)/V13,SUM('Low rise'!AL6:AL20)/V13) -> 85.844285
B17: Heating systems | C17: =IF($C$8=$AA$2,SUM(Detached!AC36:AC42)/C13,SUM(Detached!AI36:AI42)/C13) -> 35.041893 | D17: =IF($C$8=$AA$2,SUM(Detached!AA36:AA42)/D13,SUM(Detached!AG36:AG42)/D13) -> 0 | E17: =IF($C$8=$AA$2,SUM(Detached!AB36:AB42)/E13,SUM(Detached!AH36:AH42)/E13) -> 38.151752 | F17: =IF($C$8=$AA$2,SUM(Detached!AF36:AF42)/F13,SUM(Detached!AL36:AL42)/F13) -> 35.041893 | G17: =IF($C$8=$AA$2,(SUM(Semi!AC36:AC42))/G13,(SUM(Semi!AI36:AI42))/G13) -> 53.504826 | H17: =IF($C$8=$AA$2,(SUM(Semi!AA36:AA42))/H13,(SUM(Semi!AG36:AG42))/H13) -> 0 | I17: =IF($C$8=$AA$2,(SUM(Semi!AB36:AB42))/I13,(SUM(Semi!AH36:AH42))/I13) -> 53.504826 | J17: =IF($C$8=$AA$2,(SUM(Semi!AF36:AF42))/J13,(SUM(Semi!AL36:AL42))/J13) -> 53.504826 | K17: =IF($C$8=$AA$2,(SUM(Bungalow!AC35:AC41))/K13,(SUM(Bungalow!AI35:AI41))/K13) -> 90.41967 | L17: =IF($C$8=$AA$2,(SUM(Bungalow!AA35:AA41))/L13,(SUM(Bungalow!AG35:AG41))/L13) -> 0 | M17: =IF($C$8=$AA$2,(SUM(Bungalow!AB35:AB41))/M13,(SUM(Bungalow!AH35:AH41))/M13) -> 90.41967 | N17: =IF($C$8=$AA$2,(SUM(Bungalow!AF35:AF41))/N13,(SUM(Bungalow!AL35:AL41))/N13) -> 90.41967 | O17: =IF($C$8=$AA$2,(SUM('[2]Mid rise'!AC34:AC40))/O13,(SUM('[2]Mid rise'!AI34:AI40))/O13) -> 15.694483 | P17: =IF($C$8=$AA$2,(SUM('[2]Mid rise'!AA34:AA40))/P13,(SUM('[2]Mid rise'!AG34:AG40))/P13) -> 0 | Q17: =IF($C$8=$AA$2,(SUM('[2]Mid rise'!AB34:AB40))/Q13,(SUM('[2]Mid rise'!AH34:AH40))/Q13) -> 24.963448 | R17: =IF($C$8=$AA$2,(SUM('[2]Mid rise'!AF34:AF40))/R13,(SUM('[2]Mid rise'!AL34:AL40))/R13) -> 15.694483 | S17: =IF($C$8=$AA$2,SUM('Low rise'!AC34:AC42)/S13,SUM('Low rise'!AI34:AI42)/S13) -> 51.002418 | T17: =IF($C$8=$AA$2,SUM('Low rise'!AA34:AA42)/T13,SUM('Low rise'!AG34:AG42)/T13) -> 0 | U17: =IF($C$8=$AA$2,SUM('Low rise'!AB34:AB42)/U13,SUM('Low rise'!AH34:AH42)/U13) -> 51.002418 | V17: =IF($C$8=$AA$2,SUM('Low rise'!AF34:AF42)/V13,SUM('Low rise'!AL34:AL42)/V13) -> 51.002418
B18: Renewables (PVs) | C18: =IF($C$8=$AA$2,SUM(Detached!AC22:AC27)/C13,SUM(Detached!AI22:AI27)/C13) -> 7.36967 | D18: =IF($C$8=$AA$2,SUM(Detached!AA22:AA27)/D13,SUM(Detached!AG22:AG27)/D13) -> 0 | E18: =IF($C$8=$AA$2,SUM(Detached!AB22:AB28)/E13,SUM(Detached!AH22:AH28)/E13) -> 7.36967 | F18: =IF($C$8=$AA$2,SUM(Detached!AF22:AF28)/F13,SUM(Detached!AL22:AL28)/F13) -> 9.3887576 | G18: =IF($C$8=$AA$2,SUM(Semi!AC22:AC27)/G13,SUM(Semi!AI22:AI27)/G13) -> 7.7072701 | H18: =IF($C$8=$AA$2,SUM(Semi!AA22:AA28)/H13,SUM(Semi!AG22:AG28)/H13) -> 0 | I18: =IF($C$8=$AA$2,SUM(Semi!AB22:AB28)/I13,SUM(Semi!AH22:AH28)/I13) -> 7.7072701 | J18: =IF($C$8=$AA$2,SUM(Semi!AF22:AF28)/J13,SUM(Semi!AL22:AL28)/J13) -> 9.2487241 | K18: =IF($C$8=$AA$2,SUM(Bungalow!AC22:AC28)/K13,SUM(Bungalow!AI22:AI28)/K13) -> 23.67334 | L18: =IF($C$8=$AA$2,SUM(Bungalow!AA22:AA28)/L13,SUM(Bungalow!AG22:AG28)/L13) -> 0 | M18: =IF($C$8=$AA$2,SUM(Bungalow!AB22:AB28)/M13,SUM(Bungalow!AH22:AH28)/M13) -> 23.67334 | N18: =IF($C$8=$AA$2,SUM(Bungalow!AF22:AF28)/N13,SUM(Bungalow!AL22:AL28)/N13) -> 14.44798 | O18: =IF($C$8=$AA$2,SUM('[2]Mid rise'!AC22:AC27)/O13,SUM('[2]Mid rise'!AI22:AI27)/O13) -> 3.1791045 | P18: =IF($C$8=$AA$2,SUM('[2]Mid rise'!AA22:AA24)/P13,SUM('[2]Mid rise'!AG22:AG24)/P13) -> 0 | Q18: =IF($C$8=$AA$2,SUM('[2]Mid rise'!AB22:AB24)/Q13,SUM('[2]Mid rise'!AH22:AH24)/Q13) -> 3.1791045 | R18: =IF($C$8=$AA$2,SUM('[2]Mid rise'!AF22:AF26)/R13,SUM('[2]Mid rise'!AL22:AL26)/R13) -> 3.1791045 | S18: =IF($C$8=$AA$2,SUM('Low rise'!AC22:AC27)/S13,SUM('Low rise'!AI22:AI24)/S13) -> 12.259191 | T18: =IF($C$8=$AA$2,SUM('Low rise'!AA22:AA24)/T13,SUM('Low rise'!AG22:AG24)/T13) -> 0 | U18: =IF($C$8=$AA$2,SUM('Low rise'!AB22:AB24)/U13,SUM('Low rise'!AH22:AH24)/U13) -> 4.5281696 | V18: =IF($C$8=$AA$2,SUM('Low rise'!AF22:AF26)/V13,SUM('Low rise'!AL22:AL26)/V13) -> 3.6722351
B19: Oncosts Y/N | C19: N | D19: N | E19: N | F19: N | G19: N | H19: N | I19: N | J19: N | O19: N | P19: N | Q19: N | R19: N | S19: N | T19: N | U19: N | V19: N
B20: With location uplift and prelims
B21: =B16 -> Fabric & Ventilation | C21: =C16*($C$6)*IF(C$19="Y",(1+$C$7),1) -> 55.390616 | D21: =D16*($C$6)*IF(D$19="Y",(1+$C$7),1) -> 0 | E21: =E16*($C$6)*IF(E$19="Y",(1+$C$7),1) -> 0.5101075 | F21: =F16*($C$6)*IF(F$19="Y",(1+$C$7),1) -> 91.243968 | G21: =G16*($C$6)*IF(G$19="Y",(1+$C$7),1) -> 49.05784 | H21: =H16*($C$6)*IF(H$19="Y",(1+$C$7),1) -> 0 | I21: =I16*($C$6)*IF(I$19="Y",(1+$C$7),1) -> 0.5101075 | J21: =J16*($C$6)*IF(J$19="Y",(1+$C$7),1) -> 73.96956 | ... V21: =V16*($C$6)*IF(V$19="Y",(1+$C$7),1) -> 79.835185
B22: =B17 -> Heating systems | C22: =C17*($C$6)*IF(C$19="Y",(1+$C$7),1) -> 32.58896 | D22: =D17*($C$6)*IF(D$19="Y",(1+$C$7),1) -> 0 | E22: =E17*($C$6)*IF(E$19="Y",(1+$C$7),1) -> 35.481129 | F22: =F17*($C$6)*IF(F$19="Y",(1+$C$7),1) -> 32.58896 | G22: =G17*($C$6)*IF(G$19="Y",(1+$C$7),1) -> 49.759488 | H22: =H17*($C$6)*IF(H$19="Y",(1+$C$7),1) -> 0 | I22: =I17*($C$6)*IF(I$19="Y",(1+$C$7),1) -> 49.759488 | J22: =J17*($C$6)*IF(J$19="Y",(1+$C$7),1) -> 49.759488 | ... V22: =V17*($C$6)*IF(V$19="Y",(1+$C$7),1) -> 47.432249
B23: =B18 -> Renewables (PVs) | C23: =C18*($C$6)*IF(C$19="Y",(1+$C$7),1) -> 6.8537931 | D23: =D18*($C$6)*IF(D$19="Y",(1+$C$7),1) -> 0 | E23: =E18*($C$6)*IF(E$19="Y",(1+$C$7),1) -> 6.8537931 | F23: =F18*($C$6)*IF(F$19="Y",(1+$C$7),1) -> 8.7315446 | G23: =G18*($C$6)*IF(G$19="Y",(1+$C$7),1) -> 7.1677612 | H23: =H18*($C$6)*IF(H$19="Y",(1+$C$7),1) -> 0 | I23: =I18*($C$6)*IF(I$19="Y",(1+$C$7),1) -> 7.1677612 | J23: =J18*($C$6)*IF(J$19="Y",(1+$C$7),1) -> 8.6013134 | ... V23: =V18*($C$6)*IF(V$19="Y",(1+$C$7),1) -> 3.4151787 | AQ23: Cost Uplift per m2 GIA | AR23: =C12 -> Level 1b (SHD 15-20) | AS23: =E12 -> FHS Part L 2026 | AT23: =G12 -> Level 1b (SHD 15-20) | AU23: =I12 -> FHS Part L 2026 | AV23: =S12 -> Level 1b (SHD 15-20) | AW23: =U12 -> FHS Part L 2026
B24: Total uplift (£/m²) | C24: =SUM(C21:C23) -> 94.833369 | D24: =SUM(D21:D23) -> 0 | E24: =SUM(E21:E23) -> 42.84503 | F24: =SUM(F21:F23) -> 132.56447 | G24: =SUM(G21:G23) -> 105.98509 | H24: =SUM(H21:H23) -> 0 | I24: =SUM(I21:I23) -> 57.437357 | J24: =SUM(J21:J23) -> 132.33036 | ... V24: =SUM(V21:V23) -> 130.68261 | AQ24: MEP | AR24: =C22 -> 32.58896 | AS24: =E22 -> 35.481129 | AT24: =G22 -> 49.759488 | AU24: =I22 -> 49.759488 | AV24: =S22 -> 47.432249 | AW24: =U22 -> 47.432249
B25: Total uplift (£ per building) | C25: =C24*C13 -> 13466.338 | D25: =D24*D13 -> 0 | E25: =E24*E13 -> 6083.9943 | F25: =F24*F13 -> 18824.155 | G25: =G24*G13 -> 9856.6133 | H25: =H24*H13 -> 0 | I25: =I24*I13 -> 5341.6742 | J25: =J24*J13 -> 12306.724 | ... V25: =V24*V13 -> 84813.016 | AQ25: Solar | AR25: =C23 -> 6.8537931 | AS25: =E23 -> 6.8537931 | AT25: =G23 -> 7.1677612 | AU25: =I23 -> 7.1677612 | AV25: =S23 -> 11.401048 | AW25: =U23 -> 4.2111978
B26: Total uplift (£ per unit) | C26: =C25/C14 -> 13466.338 | D26: =D25/D14 -> 0 | E26: =E25/E14 -> 6083.9943 | F26: =F25/F14 -> 18824.155 | G26: =G25/G14 -> 9856.6133 | H26: =H25/H14 -> 0 | I26: =I25/I14 -> 5341.6742 | J26: =J25/J14 -> 12306.724 | ... V26: =V25/V14 -> 12116.145 | AQ26: Total (£/m²)* | AR26: =C24 -> 94.833369 | AS26: =E24 -> 42.84503 | AT26: =G24 -> 105.98509 | AU26: =I24 -> 57.437357 | AV26: =S24 -> 123.12906 | AW26: =U24 -> 49.944337
B27: Base build costs (notional) (£/m²) | C27: =IF($C$8=$AA$2,VLOOKUP(C11,'[2]Reference construction costs'!C10:E13,3,FALSE),VLOOKUP(C11,'[2]Reference construction costs'!C10:E13,3,FALSE)+(Detached!U31+Detached!U44)/'Cost Summary All Resi'!C13)*C6 -> 1552.17 | D27: =C27 -> 1552.17 | E27: =D27 -> 1552.17 | F27: =IF($C$8=$AA$2,VLOOKUP(C11,'[2]Reference construction costs'!C10:E13,3,FALSE),VLOOKUP(C11,'[2]Reference construction costs'!C10:E13,3,FALSE)+(Detached!U31+Detached!U44)/F13)*C6 -> 1552.17 | G27: =IF($C$8=$AA$2,VLOOKUP(G11,'[2]Reference construction costs'!C10:E13,3,FALSE),VLOOKUP(G11,'[2]Reference construction costs'!C10:E13,3,FALSE)+(Semi!U31+Semi!U44)/G13)*C6 -> 1552.17 | H27: =G27 -> 1552.17 | I27: =G27 -> 1552.17 | J27: =IF($C$8=$AA$2,VLOOKUP(G11,'[2]Reference construction costs'!C10:E13,3,FALSE),VLOOKUP(G11,'[2]Reference construction costs'!C10:E13,3,FALSE)+(Semi!U31+Semi!U44)/J13)*C6 -> 1552.17 | K27: =IF($C$8=$AA$2,VLOOKUP(K11,'[2]Reference construction costs'!C10:E13,3,FALSE),VLOOKUP(K11,'[2]Reference construction costs'!C10:E13,3,FALSE)+(Bungalow!U30+Bungalow!U43)/G13)*C6 -> 1552.17 | L27: =IF($C$8=$AA$2,VLOOKUP(K11,'[2]Reference construction costs'!C10:E13,3,FALSE),VLOOKUP(K11,'[2]Reference construction costs'!C10:E13,3,FALSE)+(Bungalow!U30+Bungalow!U43)/G13)*C6 -> 1552.17 | M27: =IF($C$8=$AA$2,VLOOKUP(K11,'[2]Reference construction costs'!C10:E13,3,FALSE),VLOOKUP(K11,'[2]Reference construction costs'!C10:E13,3,FALSE)+(Bungalow!U30+Bungalow!U43)/G13)*C6 -> 1552.17 | N27: =IF($C$8=$AA$2,VLOOKUP(K11,'[2]Reference construction costs'!C10:E13,3,FALSE),VLOOKUP(K11,'[2]Reference construction costs'!C10:E13,3,FALSE)+(Bungalow!U30+Bungalow!U43)/G13)*C6 -> 1552.17 | O27: =IF($C$8=$AA$2,VLOOKUP(O11,'[2]Reference construction costs'!C10:E14,3,FALSE),VLOOKUP(O11,'[2]Reference construction costs'!C10:E14,3,FALSE)+('[2]Mid rise'!U29+'[2]Mid rise'!U42)/O13)*C6 -> 1789.32 | P27: =O27 -> 1789.32 | Q27: =O27 -> 1789.32 | R27: =IF($C$8=$AA$2,VLOOKUP(O11,'[2]Reference construction costs'!C10:E14,3,FALSE),VLOOKUP(O11,'[2]Reference construction costs'!C10:E14,3,FALSE)+('[2]Mid rise'!U29+'[2]Mid rise'!U42)/R13)*C6 -> 1789.32 | S27: =IF($C$8=$AA$2,VLOOKUP(S11,'[2]Reference construction costs'!C10:E13,3,FALSE),VLOOKUP(S11,'[2]Reference construction costs'!C10:E13,3,FALSE)+('Low rise'!U29+'Low rise'!U44)/S13)*C6 -> 1789.32 | T27: =S27 -> 1789.32 | U27: =S27 -> 1789.32 | V27: =IF($C$8=$AA$2,VLOOKUP(S11,'[2]Reference construction costs'!C10:E13,3,FALSE),VLOOKUP(S11,'[2]Reference construction costs'!C10:E13,3,FALSE)+('Low rise'!U29+'Low rise'!U44)/S13)*C6 -> 1789.32 | AQ27: Total per home | AR27: =AR26*C13/C14 -> 13466.338 | AS27: =AS26*E13/E14 -> 6083.9943 | AT27: =AT26*G13/G14 -> 9856.6133 | AU27: =AU26*I13/I14 -> 5341.6742 | AV27: =AV26*S13/S14 -> 11415.823 | AW27: =AW26*U13/U14 -> 4630.5535
B28: Percentage uplift | C28: =C24/C27 -> 0.061097283 | D28: =D24/D27 -> 0 | E28: =E24/E27 -> 0.02760331 | F28: =F24/F27 -> 0.085405898 | G28: =G24/G27 -> 0.068281882 | H28: =H24/H27 -> 0 | I28: =I24/I27 -> 0.037004553 | J28: =J24/J27 -> 0.08525507 | ... V28: =V24/V27 -> 0.073034791 | AZ28: * totals do not sum exactly due to rounding
C29: =C27+C24 -> 1647.0034 | D29: =D27+D24 -> 1552.17 | E29: =E27+E24 -> 1595.015 | F29: =F27+F24 -> 1684.7345 | G29: =G27+G24 -> 1658.1551 | H29: =H27+H24 -> 1552.17 | I29: =I27+I24 -> 1609.6074 | J29: =J27+J24 -> 1684.5004 | ... V29: =V27+V24 -> 1920.0026
A30: ="Summary of total build costs and increment for carbon policy relative to "&C8 -> Summary of total build costs and increment for carbon policy relative to Part L 2021
A58: ="Additional build cost increment for carbon policy split by cost category relative to "&C8 -> Additional build cost increment for carbon policy split by cost category relative to Part L 2021

Sheet Bungalow
B1: =[2]Contents!B17 -> Bungalow
B2: Units | C2: ='[2]Areas and specs'!F3 -> 1
B3: FABRIC, VENTILATION AND PV
B4: Element | C4: Quantity | F4: Specification | M4: Cost per unit | T4: Cost per building | AA4: Cost Δ per building | AI4: Cost Δ per building vs BAU 2025
C5: Quantity | D5: Unit | F5: Building Regulations Part L | G5: Future Homes Standard | H5: Level 1a (SHD 30) | I5: =Detached!I5 -> 100% TER + 10% TFEE | J5: =Detached!J5 -> 100% TER + 10% TFEE + Unregulated | K5: =Detached!K5 -> Level 2 (SHD 20/ EUI 35) | M5: =F5 -> Building Regulations Part L | N5: =G5 -> Future Homes Standard | O5: =H5 -> Level 1a (SHD 30) | P5: =I5 -> 100% TER + 10% TFEE | Q5: =J5 -> 100% TER + 10% TFEE + Unregulated | R5: =K5 -> Level 2 (SHD 20/ EUI 35) | T5: =M5 -> Building Regulations Part L | U5: =N5 -> Future Homes Standard | V5: =O5 -> Level 1a (SHD 30) | W5: =P5 -> 100% TER + 10% TFEE | X5: =Q5 -> 100% TER + 10% TFEE + Unregulated | Y5: =R5 -> Level 2 (SHD 20/ EUI 35) | AA5: =M5 -> Building Regulations Part L | AB5: =N5 -> Future Homes Standard | AC5: =O5 -> Level 1a (SHD 30) | AD5: =P5 -> 100% TER + 10% TFEE | AE5: =Q5 -> 100% TER + 10% TFEE + Unregulated | AF5: =R5 -> Level 2 (SHD 20/ EUI 35) | AG5: =AA5 -> Building Regulations Part L | AH5: =AB5 -> Future Homes Standard | AI5: =AC5 -> Level 1a (SHD 30) | AJ5: =AD5 -> 100% TER + 10% TFEE | AK5: =AE5 -> 100% TER + 10% TFEE + Unregulated | AL5: =AF5 -> Level 2 (SHD 20/ EUI 35)
A6: Floor | B6: Floor | C6: ='[2]Areas and specs'!F6 -> 54.5 | D6: m2 | F6: Grd Floor [u-Value=0.13 W/m².K] | G6: Grd Floor [u-Value=0.13 W/m².K] | H6: Grd Floor [u-Value=0.13 W/m².K] | I6: Grd Floor [u-Value=0.12 W/m².K] | J6: Grd Floor [u-Value=0.12 W/m².K] | K6: Grd Floor [u-Value=0.09 W/m².K] | M6: =IFERROR(VLOOKUP(F6,'[2]Elemental Database'!$A$4:$H$240,8,FALSE),0) -> 188.784 | N6: =IFERROR(VLOOKUP(G6,'[2]Elemental Database'!$A$4:$H$240,8,FALSE),0) -> 188.784 | O6: =IFERROR(VLOOKUP(H6,'[2]Elemental Database'!$A$4:$H$240,8,FALSE),0) -> 188.784 | P6: =IFERROR(VLOOKUP(I6,'[2]Elemental Database'!$A$4:$H$240,8,FALSE),0) -> 193.2 | Q6: =IFERROR(VLOOKUP(J6,'[2]Elemental Database'!$A$4:$H$240,8,FALSE),0) -> 193.2 | R6: =IFERROR(VLOOKUP(K6,'[2]Elemental Database'!$A$4:$H$240,8,FALSE),0) -> 223.10697 | T6: =M6*$C6 -> 10288.728 | U6: =N6*$C6 -> 10288.728 | V6: =O6*$C6 -> 10288.728 | W6: =P6*$C6 -> 10529.4 | X6: =Q6*$C6 -> 10529.4 | Y6: =R6*$C6 -> 12159.33 | AA6: =T6-$T6 -> 0 | AB6: =U6-$T6 -> 0 | AC6: =V6-$T6 -> 0 | AD6: =W6-$T6 -> 240.672 | AE6: =X6-$T6 -> 240.672 | AF6: =Y6-$T6 -> 1870.6017 | AG6: =T6-$U6 -> 0 | AH6: =U6-$U6 -> 0 | AI6: =V6-$U6 -> 0 | AJ6: =W6-$U6 -> 240.672 | AK6: =X6-$U6 -> 240.672 | AL6: =Y6-$U6 -> 1870.6017
A7: ExternalWall | B7: =A7 -> ExternalWall | C7: ='[2]Areas and specs'!F7 -> 69 | D7: m2 | F7: Ex Wall - Trad+MW [u-Value=0.18 W/m².K] | G7: Ex Wall - Trad+MW [u-Value=0.18 W/m².K] | H7: Ex Wall - Trad+MW [u-Value=0.15 W/m².K] | I7: Ex Wall - Trad+MW [u-Value=0.12 W/m².K] | J7: Ex Wall - Trad+MW [u-Value=0.12 W/m².K] | K7: Ex Wall - Trad+MW [u-Value=0.18 W/m².K] | M7: =IFERROR(VLOOKUP(F7,'[2]Elemental Database'!$A$4:$H$240,8,FALSE),0) -> 272.59968 | N7: =IFERROR(VLOOKUP(G7,'[2]Elemental Database'!$A$4:$H$240,8,FALSE),0) -> 272.59968 | O7: =IFERROR(VLOOKUP(H7,'[2]Elemental Database'!$A$4:$H$240,8,FALSE),0) -> 279.27667 | P7: =IFERROR(VLOOKUP(I7,'[2]Elemental Database'!$A$4:$H$240,8,FALSE),0) -> 285.82707 | Q7: =IFERROR(VLOOKUP(J7,'[2]Elemental Database'!$A$4:$H$240,8,FALSE),0) -> 285.82707 | R7: =IFERROR(VLOOKUP(K7,'[2]Elemental Database'!$A$4:$H$240,8,FALSE),0) -> 272.59968 | T7: =M7*$C7 -> 18809.378 | U7: =N7*$C7 -> 18809.378 | V7: =O7*$C7 -> 19270.09 | W7: =P7*$C7 -> 19722.068 | X7: =Q7*$C7 -> 19722.068 | Y7: =R7*$C7 -> 18809.378 | AA7: =T7-$T7 -> 0 | AB7: =U7-$T7 -> 0 | AC7: =V7-$T7 -> 460.71245 | AD7: =W7-$T7 -> 912.68982 | AE7: =X7-$T7 -> 912.68982 | AF7: =Y7-$T7 -> 0 | AG7: =T7-$U7 -> 0 | AH7: =U7-$U7 -> 0 | AI7: =V7-$U7 -> 460.71245 | AJ7: =W7-$U7 -> 912.68982 | AK7: =X7-$U7 -> 912.68982 | AL7: =Y7-$U7 -> 0
A8: ExternalWall | B8: Dormer wall | D8: m2 | M8: =IFERROR(VLOOKUP(F8,'[2]Elemental Database'!$A$4:$H$240,8,FALSE),0) -> 0 | N8: =IFERROR(VLOOKUP(G8,'[2]Elemental Database'!$A$4:$H$240,8,FALSE),0) -> 0 | O8: =IFERROR(VLOOKUP(H8,'[2]Elemental Database'!$A$4:$H$240,8,FALSE),0) -> 0 | P8: =IFERROR(VLOOKUP(I8,'[2]Elemental Database'!$A$4:$H$240,8,FALSE),0) -> 0 | Q8: =IFERROR(VLOOKUP(J8,'[2]Elemental Database'!$A$4:$H$240,8,FALSE),0) -> 0 | R8: =IFERROR(VLOOKUP(K8,'[2]Elemental Database'!$A$4:$H$240,8,FALSE),0) -> 0 | T8: =M8*$C8 -> 0 | U8: =N8*$C8 -> 0 | V8: =O8*$C8 -> 0 | W8: =P8*$C8 -> 0 | X8: =Q8*$C8 -> 0 | Y8: =R8*$C8 -> 0 | AA8: =T8-$T8 -> 0 | AB8: =U8-$T8 -> 0 | AC8: =V8-$T8 -> 0 | AD8: =W8-$T8 -> 0 | AE8: =X8-$T8 -> 0 | AF8: =Y8-$T8 -> 0 | AG8: =T8-$U8 -> 0 | AH8: =U8-$U8 -> 0 | AI8: =V8-$U8 -> 0 | AJ8: =W8-$U8 -> 0 | AK8: =X8-$U8 -> 0 | AL8: =Y8-$U8 -> 0
A9: ExternalWall | B9: Bay wall | D9: m2 | M9: =IFERROR(VLOOKUP(F9,'[2]Elemental Database'!$A$4:$H$240,8,FALSE),0) -> 0 | N9: =IFERROR(VLOOKUP(G9,'[2]Elemental Database'!$A$4:$H$240,8,FALSE),0) -> 0 | O9: =IFERROR(VLOOKUP(H9,'[2]Elemental Database'!$A$4:$H$240,8,FALSE),0) -> 0 | P9: =IFERROR(VLOOKUP(I9,'[2]Elemental Database'!$A$4:$H$240,8,FALSE),0) -> 0 | Q9: =IFERROR(VLOOKUP(J9,'[2]Elemental Database'!$A$4:$H$240,8,FALSE),0) -> 0 | R9: =IFERROR(VLOOKUP(K9,'[2]Elemental Database'!$A$4:$H$240,8,FALSE),0) -> 0 | T9: =M9*$C9 -> 0 | U9: =N9*$C9 -> 0 | V9: =O9*$C9 -> 0 | W9: 46272 | X9: =Q9*$C9 -> 0 | Y9: =R9*$C9 -> 0 | AA9: =T9-$T9 -> 0 | AB9: =U9-$T9 -> 0 | AC9: =V9-$T9 -> 0 | AD9: =W9-$T9 -> 46272 | AE9: =X9-$T9 -> 0 | AF9: =Y9-$T9 -> 0 | AG9: =T9-$U9 -> 0 | AH9: =U9-$U9 -> 0 | AI9: =V9-$U9 -> 0 | AJ9: =W9-$U9 -> 46272 | AK9: =X9-$U9 -> 0 | AL9: =Y9-$U9 -> 0
A10: ExternalWall | B10: Party Wall | C10: ='[2]Areas and specs'!F9 -> 31 | D10: m2 | F10: Party Wall (generic) | G10: Party Wall (generic) | H10: Party Wall (generic) | K10: Party Wall (generic) | M10: =IFERROR(VLOOKUP(F10,'[2]Elemental Database'!$A$4:$H$240,8,FALSE),0) -> 0 | N10: =IFERROR(VLOOKUP(G10,'[2]Elemental Database'!$A$4:$H$240,8,FALSE),0) -> 0 | O10: =IFERROR(VLOOKUP(H10,'[2]Elemental Database'!$A$4:$H$240,8,FALSE),0) -> 0 | P10: =IFERROR(VLOOKUP(I10,'[2]Elemental Database'!$A$4:$H$240,8,FALSE),0) -> 0 | Q10: =IFERROR(VLOOKUP(J10,'[2]Elemental Database'!$A$4:$H$240,8,FALSE),0) -> 0 | R10: =IFERROR(VLOOKUP(K10,'[2]Elemental Database'!$A$4:$H$240,8,FALSE),0) -> 0 | T10: =M10*$C10 -> 0 | U10: =N10*$C10 -> 0 | V10: =O10*$C10 -> 0 | W10: =P10*$C10 -> 0 | X10: =Q10*$C10 -> 0 | Y10: =R10*$C10 -> 0 | AA10: =T10-$T10 -> 0 | AB10: =U10-$T10 -> 0 | AC10: =V10-$T10 -> 0 | AD10: =W10-$T10 -> 0 | AE10: =X10-$T10 -> 0 | AF10: =Y10-$T10 -> 0 | AG10: =T10-$U10 -> 0 | AH10: =U10-$U10 -> 0 | AI10: =V10-$U10 -> 0 | AJ10: =W10-$U10 -> 0 | AK10: =X10-$U10 -> 0 | AL10: =Y10-$U10 -> 0
A11: Roof | B11: ='[2]Elemental Database'!B36 -> Roof | C11: ='[2]Areas and specs'!F11 -> 54.5 | D11: m2 | F11: Roof - Ins at Joists [u-Value=0.11 W/m².K] | G11: Roof - Ins at Joists [u-Value=0.11 W/m².K] | H11: Roof - Ins at Joists [u-Value=0.09 W/m².K] | I11: Roof - Ins at Joists [u-Value=0.1 W/m².K] | J11: Roof - Ins at Joists [u-Value=0.1 W/m².K] | K11: Roof - Ins at Joists [u-Value=0.1 W/m².K] | M11: =IFERROR(VLOOKUP(F11,'[2]Elemental Database'!$A$4:$H$240,8,FALSE),0) -> 230.736 | N11: =IFERROR(VLOOKUP(G11,'[2]Elemental Database'!$A$4:$H$240,8,FALSE),0) -> 230.736 | O11: =IFERROR(VLOOKUP(H11,'[2]Elemental Database'!$A$4:$H$240,8,FALSE),0) -> 235.02383 | P11: =IFERROR(VLOOKUP(I11,'[2]Elemental Database'!$A$4:$H$240,8,FALSE),0) -> 234.048 | Q11: =IFERROR(VLOOKUP(J11,'[2]Elemental Database'!$A$4:$H$240,8,FALSE),0) -> 234.048 | R11: =IFERROR(VLOOKUP(K11,'[2]Elemental Database'!$A$4:$H$240,8,FALSE),0) -> 234.048 | T11: =M11*$C11 -> 12575.112 | U11: =N11*$C11 -> 12575.112 | V11: =O11*$C11 -> 12808.799 | W11: =P11*$C11 -> 12755.616 | X11: =Q11*$C11 -> 12755.616 | Y11: =R11*$C11 -> 12755.616 | AA11: =T11-$T11 -> 0 | AB11: =U11-$T11 -> 0 | AC11: =V11-$T11 -> 233.68689 | AD11: =W11-$T11 -> 180.504 | AE11: =X11-$T11 -> 180.504 | AF11: =Y11-$T11 -> 180.504 | AG11: =T11-$U11 -> 0 | AH11: =U11-$U11 -> 0 | AI11: =V11-$U11 -> 233.68689 | AJ11: =W11-$U11 -> 180.504 | AK11: =X11-$U11 -> 180.504 | AL11: =Y11-$U11 -> 180.504
A12: Roof | B12: Sloping roof | D12: m2 | M12: =IFERROR(VLOOKUP(F12,'[2]Elemental Database'!$A$4:$H$240,8,FALSE),0) -> 0 | N12: =IFERROR(VLOOKUP(G12,'[2]Elemental Database'!$A$4:$H$240,8,FALSE),0) -> 0 | O12: =IFERROR(VLOOKUP(H12,'[2]Elemental Database'!$A$4:$H$240,8,FALSE),0) -> 0 | P12: =IFERROR(VLOOKUP(I12,'[2]Elemental Database'!$A$4:$H$240,8,FALSE),0) -> 0 | Q12: =IFERROR(VLOOKUP(J12,'[2]Elemental Database'!$A$4:$H$240,8,FALSE),0) -> 0 | R12: =IFERROR(VLOOKUP(K12,'[2]Elemental Database'!$A$4:$H$240,8,FALSE),0) -> 0 | T12: =M12*$C12 -> 0 | U12: =N12*$C12 -> 0 | V12: =O12*$C12 -> 0 | W12: =P12*$C12 -> 0 | X12: =Q12*$C12 -> 0 | Y12: =R12*$C12 -> 0 | AA12: =T12-$T12 -> 0 | AB12: =U12-$T12 -> 0 | AC12: =V12-$T12 -> 0 | AD12: =W12-$T12 -> 0 | AE12: =X12-$T12 -> 0 | AF12: =Y12-$T12 -> 0 | AG12: =T12-$U12 -> 0 | AH12: =U12-$U12 -> 0 | AI12: =V12-$U12 -> 0 | AJ12: =W12-$U12 -> 0 | AK12: =X12-$U12 -> 0 | AL12: =Y12-$U12 -> 0
B13: Dormer roof | D13: m2 | M13: =IFERROR(VLOOKUP(F13,'[2]Elemental Database'!$A$4:$H$240,8,FALSE),0) -> 0 | N13: =IFERROR(VLOOKUP(G13,'[2]Elemental Database'!$A$4:$H$240,8,FALSE),0) -> 0 | O13: =IFERROR(VLOOKUP(H13,'[2]Elemental Database'!$A$4:$H$240,8,FALSE),0) -> 0 | P13: =IFERROR(VLOOKUP(I13,'[2]Elemental Database'!$A$4:$H$240,8,FALSE),0) -> 0 | Q13: =IFERROR(VLOOKUP(J13,'[2]Elemental Database'!$A$4:$H$240,8,FALSE),0) -> 0 | R13: =IFERROR(VLOOKUP(K13,'[2]Elemental Database'!$A$4:$H$240,8,FALSE),0) -> 0 | T13: =M13*$C13 -> 0 | U13: =N13*$C13 -> 0 | V13: =O13*$C13 -> 0 | W13: =P13*$C13 -> 0 | X13: =Q13*$C13 -> 0 | Y13: =R13*$C13 -> 0 | AA13: =T13-$T13 -> 0 | AB13: =U13-$T13 -> 0 | AC13: =V13-$T13 -> 0 | AD13: =W13-$T13 -> 0 | AE13: =X13-$T13 -> 0 | AF13: =Y13-$T13 -> 0 | AG13: =T13-$U13 -> 0 | AH13: =U13-$U13 -> 0 | AI13: =V13-$U13 -> 0 | AJ13: =W13-$U13 -> 0 | AK13: =X13-$U13 -> 0 | AL13: =Y13-$U13 -> 0
A14: Window | B14: Window | C14: ='[2]Areas and specs'!F15+'[2]Areas and specs'!F16 -> 9.7 | D14: m2 | F14: Windows [u-Value=1.2 W/m².K] | G14: Windows [u-Value=1.2 W/m².K] | H14: Windows [u-Value=0.8 W/m².K] | I14: Windows [u-Value=1.2 W/m².K] | J14: Windows [u-Value=1.2 W/m².K] | K14: Windows [u-Value=0.8 W/m².K] | M14: =IFERROR(VLOOKUP(F14,'[2]Elemental Database'!$A$4:$H$240,8,FALSE),0) -> 430.56 | N14: =IFERROR(VLOOKUP(G14,'[2]Elemental Database'!$A$4:$H$240,8,FALSE),0) -> 430.56 | O14: =IFERROR(VLOOKUP(H14,'[2]Elemental Database'!$A$4:$H$240,8,FALSE),0) -> 516.672 | P14: =IFERROR(VLOOKUP(I14,'[2]Elemental Database'!$A$4:$H$240,8,FALSE),0) -> 430.56 | Q14: =IFERROR(VLOOKUP(J14,'[2]Elemental Database'!$A$4:$H$240,8,FALSE),0) -> 430.56 | R14: =IFERROR(VLOOKUP(K14,'[2]Elemental Database'!$A$4:$H$240,8,FALSE),0) -> 516.672 | T14: =M14*$C14 -> 4176.432 | U14: =N14*$C14 -> 4176.432 | V14: =O14*$C14 -> 5011.7184 | W14: =P14*$C14 -> 4176.432 | X14: =Q14*$C14 -> 4176.432 | Y14: =R14*$C14 -> 5011.7184 | AA14: =T14-$T14 -> 0 | AB14: =U14-$T14 -> 0 | AC14: =V14-$T14 -> 835.2864 | AD14: =W14-$T14 -> 0 | AE14: =X14-$T14 -> 0 | AF14: =Y14-$T14 -> 835.2864 | AG14: =T14-$U14 -> 0 | AH14: =U14-$U14 -> 0 | AI14: =V14-$U14 -> 835.2864 | AJ14: =W14-$U14 -> 0 | AK14: =X14-$U14 -> 0 | AL14: =Y14-$U14 -> 835.2864
A15: Door | B15: Doors | C15: ='[2]Areas and specs'!F17 -> 2.1 | D15: m2 | F15: Doors [u-Value=1 W/m².K] | G15: Doors [u-Value=1 W/m².K] | H15: Doors [u-Value=1 W/m².K] | I15: Doors [u-Value=1 W/m².K] | J15: Doors [u-Value=1 W/m².K] | K15: Doors [u-Value=1 W/m².K] | M15: =IFERROR(VLOOKUP(F15,'[2]Elemental Database'!$A$4:$H$240,8,FALSE),0) -> 408.48 | N15: =IFERROR(VLOOKUP(G15,'[2]Elemental Database'!$A$4:$H$240,8,FALSE),0) -> 408.48 | O15: =IFERROR(VLOOKUP(H15,'[2]Elemental Database'!$A$4:$H$240,8,FALSE),0) -> 408.48 | P15: =IFERROR(VLOOKUP(I15,'[2]Elemental Database'!$A$4:$H$240,8,FALSE),0) -> 408.48 | Q15: =IFERROR(VLOOKUP(J15,'[2]Elemental Database'!$A$4:$H$240,8,FALSE),0) -> 408.48 | R15: =IFERROR(VLOOKUP(K15,'[2]Elemental Database'!$A$4:$H$240,8,FALSE),0) -> 408.48 | T15: =M15*$C15 -> 857.808 | U15: =N15*$C15 -> 857.808 | V15: =O15*$C15 -> 857.808 | W15: =P15*$C15 -> 857.808 | X15: =Q15*$C15 -> 857.808 | Y15: =R15*$C15 -> 857.808 | AA15: =T15-$T15 -> 0 | AB15: =U15-$T15 -> 0 | AC15: =V15-$T15 -> 0 | AD15: =W15-$T15 -> 0 | AE15: =X15-$T15 -> 0 | AF15: =Y15-$T15 -> 0 | AG15: =T15-$U15 -> 0 | AH15: =U15-$U15 -> 0 | AI15: =V15-$U15 -> 0 | AJ15: =W15-$U15 -> 0 | AK15: =X15-$U15 -> 0 | AL15: =Y15-$U15 -> 0
B16: Rooflights | D16: m2 | M16: =IFERROR(VLOOKUP(F16,'[2]Elemental Database'!$A$4:$H$240,8,FALSE),0) -> 0 | N16: =IFERROR(VLOOKUP(G16,'[2]Elemental Database'!$A$4:$H$240,8,FALSE),0) -> 0 | O16: =IFERROR(VLOOKUP(H16,'[2]Elemental Database'!$A$4:$H$240,8,FALSE),0) -> 0 | P16: =IFERROR(VLOOKUP(I16,'[2]Elemental Database'!$A$4:$H$240,8,FALSE),0) -> 0 | Q16: =IFERROR(VLOOKUP(J16,'[2]Elemental Database'!$A$4:$H$240,8,FALSE),0) -> 0 | R16: =IFERROR(VLOOKUP(K16,'[2]Elemental Database'!$A$4:$H$240,8,FALSE),0) -> 0 | T16: =M16*$C16 -> 0 | U16: =N16*$C16 -> 0 | V16: =O16*$C16 -> 0 | W16: =P16*$C16 -> 0 | X16: =Q16*$C16 -> 0 | Y16: =R16*$C16 -> 0 | AA16: =T16-$T16 -> 0 | AB16: =U16-$T16 -> 0 | AC16: =V16-$T16 -> 0 | AD16: =W16-$T16 -> 0 | AE16: =X16-$T16 -> 0 | AF16: =Y16-$T16 -> 0 | AG16: =T16-$U16 -> 0 | AH16: =U16-$U16 -> 0 | AI16: =V16-$U16 -> 0 | AJ16: =W16-$U16 -> 0 | AK16: =X16-$U16 -> 0 | AL16: =Y16-$U16 -> 0
A17: Thermalbridging | B17: Themal bridging | C17: =C2 -> 1 | D17: Nr | F17: Standard | G17: Standard | H17: Enhanced (detached) [y value improved by=c.0.06W/m3 K] | I17: Enhanced (semi) [y value improved by=c.0.03W/m3 K] | J17: Enhanced (semi) [y value improved by=c.0.03W/m3 K] | K17: Enhanced (detached) [y value improved by=c.0.06W/m3 K] | M17: =IFERROR(VLOOKUP(F17,'[2]Elemental Database'!$A$4:$H$240,8,FALSE),0) -> 0 | N17: =IFERROR(VLOOKUP(G17,'[2]Elemental Database'!$A$4:$H$240,8,FALSE),0) -> 0 | O17: =IFERROR(VLOOKUP(H17,'[2]Elemental Database'!$A$4:$H$240,8,FALSE),0) -> 627.072 | P17: =IFERROR(VLOOKUP(I17,'[2]Elemental Database'!$A$4:$H$240,8,FALSE),0) -> 205.344 | Q17: =IFERROR(VLOOKUP(J17,'[2]Elemental Database'!$A$4:$H$240,8,FALSE),0) -> 205.344 | R17: =IFERROR(VLOOKUP(K17,'[2]Elemental Database'!$A$4:$H$240,8,FALSE),0) -> 627.072 | T17: =M17*$C17 -> 0 | U17: =N17*$C17 -> 0 | V17: =O17*$C17 -> 627.072 | W17: =P17*$C17 -> 205.344 | X17: =Q17*$C17 -> 205.344 | Y17: =R17*$C17 -> 627.072 | AA17: =T17-$T17 -> 0 | AB17: =U17-$T17 -> 0 | AC17: =V17-$T17 -> 627.072 | AD17: =W17-$T17 -> 205.344 | AE17: =X17-$T17 -> 205.344 | AF17: =Y17-$T17 -> 627.072 | AG17: =T17-$U17 -> 0 | AH17: =U17-$U17 -> 0 | AI17: =V17-$U17 -> 627.072 | AJ17: =W17-$U17 -> 205.344 | AK17: =X17-$U17 -> 205.344 | AL17: =Y17-$U17 -> 627.072
A18: Ventilation | B18: Ventilation unit | C18: =C2 -> 1 | D18: Nr | F18: Intermittent extract fans with trickle vents [Semi / terrace=4 Fans per home] | G18: Intermittent extract fans with trickle vents [Semi / terrace=4 Fans per home] | H18: Good Qual MVHR [Unit=1Per home] | I18: Intermittent extract fans with trickle vents [Semi / terrace=4 Fans per home] | J18: Intermittent extract fans with trickle vents [Semi / terrace=4 Fans per home] | K18: Good Qual MVHR [Unit=1Per home] | M18: =IFERROR(VLOOKUP(F18,'[2]Elemental Database'!$A$4:$H$240,8,FALSE),0) -> 1324.8 | N18: =IFERROR(VLOOKUP(G18,'[2]Elemental Database'!$A$4:$H$240,8,FALSE),0) -> 1324.8 | O18: =IFERROR(VLOOKUP(H18,'[2]Elemental Database'!$A$4:$H$240,8,FALSE),0) -> 1360.128 | P18: =IFERROR(VLOOKUP(I18,'[2]Elemental Database'!$A$4:$H$240,8,FALSE),0) -> 1324.8 | Q18: =IFERROR(VLOOKUP(J18,'[2]Elemental Database'!$A$4:$H$240,8,FALSE),0) -> 1324.8 | R18: =IFERROR(VLOOKUP(K18,'[2]Elemental Database'!$A$4:$H$240,8,FALSE),0) -> 1360.128 | T18: =M18*$C18 -> 1324.8 | U18: =N18*$C18 -> 1324.8 | V18: =O18*$C18 -> 1360.128 | W18: =P18*$C18 -> 1324.8 | X18: =Q18*$C18 -> 1324.8 | Y18: =R18*$C18 -> 1360.128 | AA18: =T18-$T18 -> 0 | AB18: =U18-$T18 -> 0 | AC18: =V18-$T18 -> 35.328 | AD18: =W18-$T18 -> 0 | AE18: =X18-$T18 -> 0 | AF18: =Y18-$T18 -> 35.328 | AG18: =T18-$U18 -> 0 | AH18: =U18-$U18 -> 0 | AI18: =V18-$U18 -> 35.328 | AJ18: =W18-$U18 -> 0 | AK18: =X18-$U18 -> 0 | AL18: =Y18-$U18 -> 35.328
A19: Ventduct | B19: Ventilation duct | C19: ='[2]Areas and specs'!F5 -> 54.5 | D19: =D20 -> m2 | F19: none | G19: none | H19: MVHR rigid ductwork - semi + mid | I19: none | J19: none | K19: MVHR rigid ductwork - detached | M19: =IFERROR(VLOOKUP(F19,'[2]Elemental Database'!$A$4:$H$240,8,FALSE),0) -> 0 | N19: =IFERROR(VLOOKUP(G19,'[2]Elemental Database'!$A$4:$H$240,8,FALSE),0) -> 0 | O19: =IFERROR(VLOOKUP(H19,'[2]Elemental Database'!$A$4:$H$240,8,FALSE),0) -> 20.976 | P19: =IFERROR(VLOOKUP(I19,'[2]Elemental Database'!$A$4:$H$240,8,FALSE),0) -> 0 | Q19: =IFERROR(VLOOKUP(J19,'[2]Elemental Database'!$A$4:$H$240,8,FALSE),0) -> 0 | R19: =IFERROR(VLOOKUP(K19,'[2]Elemental Database'!$A$4:$H$240,8,FALSE),0) -> 16.56 | T19: =M19*$C19 -> 0 | U19: =N19*$C19 -> 0 | V19: =O19*$C19 -> 1143.192 | W19: =P19*$C19 -> 0 | X19: =Q19*$C19 -> 0 | Y19: =R19*$C19 -> 902.52 | AA19: =T19-$T19 -> 0 | AB19: =U19-$T19 -> 0 | AC19: =V19-$T19 -> 1143.192 | AD19: =W19-$T19 -> 0 | AE19: =X19-$T19 -> 0 | AF19: =Y19-$T19 -> 902.52 | AG19: =T19-$U19 -> 0 | AH19: =U19-$U19 -> 0 | AI19: =V19-$U19 -> 1143.192 | AJ19: =W19-$U19 -> 0 | AK19: =X19-$U19 -> 0 | AL19: =Y19-$U19 -> 902.52
A20: Airtightness | B20: Airtightness | C20: ='[2]Areas and specs'!F5 -> 54.5 | D20: m2 | F20: Airtightness level 1 [Air permeability rate=5m³/h·m² at 50 Pa ] | G20: Airtightness level 2a - Houses [Air permeability rate=4m³/h·m² at 50 Pa ] | H20: Airtightness level 3 - Houses [Air permeability rate=1m³/h·m² at 50 Pa ] | I20: Airtightness level 2 [Air permeability rate=3m³/h·m² at 50 Pa ] | J20: Airtightness level 2 [Air permeability rate=3m³/h·m² at 50 Pa ] | K20: Airtightness level 3 - Houses [Air permeability rate=1m³/h·m² at 50 Pa ] | M20: =IFERROR(VLOOKUP(F20,'[2]Elemental Database'!$A$4:$H$240,8,FALSE),0) -> 0 | N20: =IFERROR(VLOOKUP(G20,'[2]Elemental Database'!$A$4:$H$240,8,FALSE),0) -> 0.54850269 | O20: =IFERROR(VLOOKUP(H20,'[2]Elemental Database'!$A$4:$H$240,8,FALSE),0) -> 10.589436 | P20: =IFERROR(VLOOKUP(I20,'[2]Elemental Database'!$A$4:$H$240,8,FALSE),0) -> 0 | Q20: =IFERROR(VLOOKUP(J20,'[2]Elemental Database'!$A$4:$H$240,8,FALSE),0) -> 0 | R20: =IFERROR(VLOOKUP(K20,'[2]Elemental Database'!$A$4:$H$240,8,FALSE),0) -> 10.589436 | T20: =M20*$C20 -> 0 | U20: =N20*$C20 -> 29.893397 | V20: =O20*$C20 -> 577.12428 | W20: =P20*$C20 -> 0 | X20: =Q20*$C20 -> 0 | Y20: =R20*$C20 -> 577.12428 | AA20: =T20-$T20 -> 0 | AB20: =U20-$T20 -> 29.893397 | AC20: =V20-$T20 -> 577.12428 | AD20: =W20-$T20 -> 0 | AE20: =X20-$T20 -> 0 | AF20: =Y20-$T20 -> 577.12428 | AG20: =T20-$U20 -> -29.893397 | AH20: =U20-$U20 -> 0 | AI20: =V20-$U20 -> 547.23088 | AJ20: =W20-$U20 -> -29.893397 | AK20: =X20-$U20 -> -29.893397 | AL20: =Y20-$U20 -> 547.23088
B21: EE Lighting | D21: Nr | M21: =VLOOKUP(Bungalow!F21,'[2]Elemental Database'!$A$4:$H$240,8,FALSE) -> #N/A | N21: =VLOOKUP(Bungalow!G21,'[2]Elemental Database'!$A$4:$H$240,8,FALSE) -> #N/A | O21: =IFERROR(VLOOKUP(H21,'[2]Elemental Database'!$A$4:$H$240,8,FALSE),0) -> 0 | P21: =IFERROR(VLOOKUP(I21,'[2]Elemental Database'!$A$4:$H$240,8,FALSE),0) -> 0 | Q21: =IFERROR(VLOOKUP(J21,'[2]Elemental Database'!$A$4:$H$240,8,FALSE),0) -> 0 | R21: =VLOOKUP(Bungalow!K21,'[2]Elemental Database'!$A$4:$H$240,8,FALSE) -> #N/A | X21: =Q21*$C21 -> 0 | AA21: =T21-$T21 -> 0 | AB21: =U21-$T21 -> 0 | AC21: =V21-$T21 -> 0 | AD21: =W21-$T21 -> 0 | AE21: =X21-$T21 -> 0 | AF21: =Y21-$T21 -> 0 | AG21: =T21-$U21 -> 0 | AH21: =U21-$U21 -> 0 | AI21: =V21-$U21 -> 0 | AJ21: =W21-$U21 -> 0 | AK21: =X21-$U21 -> 0 | AL21: =Y21-$U21 -> 0
A22: PV | B22: Photovoltaic array fixed | C22: 1 | D22: Nr | F22: Roof mounted PV - fixed [Installations =1Number] | G22: Roof mounted PV - fixed [Installations =1Number] | H22: Roof mounted PV - fixed [Installations =1Number] | I22: Roof mounted PV - fixed [Installations =1Number] | J22: Roof mounted PV - fixed [Installations =1Number] | K22: Roof mounted PV - fixed [Installations =1Number] | M22: =IFERROR(VLOOKUP(F22,'[2]Elemental Database'!$A$4:$H$240,8,FALSE),0) -> 1329.5373 | N22: =IFERROR(VLOOKUP(G22,'[2]Elemental Database'!$A$4:$H$240,8,FALSE),0) -> 1329.5373 | O22: =IFERROR(VLOOKUP(H22,'[2]Elemental Database'!$A$4:$H$240,8,FALSE),0) -> 1329.5373 | P22: =IFERROR(VLOOKUP(I22,'[2]Elemental Database'!$A$4:$H$240,8,FALSE),0) -> 1329.5373 | Q22: =IFERROR(VLOOKUP(J22,'[2]Elemental Database'!$A$4:$H$240,8,FALSE),0) -> 1329.5373 | R22: =IFERROR(VLOOKUP(K22,'[2]Elemental Database'!$A$4:$H$240,8,FALSE),0) -> 1329.5373 | T22: =M22*$C22 -> 1329.5373 | U22: =N22*$C22 -> 1329.5373 | V22: =O22*$C22 -> 1329.5373 | W22: =P22*$C22 -> 1329.5373 | X22: =Q22*$C22 -> 1329.5373 | Y22: =R22*$C22 -> 1329.5373 | AA22: =T22-$T22 -> 0 | AB22: =U22-$T22 -> 0 | AC22: =V22-$T22 -> 0 | AD22: =W22-$T22 -> 0 | AE22: =X22-$T22 -> 0 | AF22: =Y22-$T22 -> 0 | AG22: =T22-$U22 -> 0 | AH22: =U22-$U22 -> 0 | AI22: =V22-$U22 -> 0 | AJ22: =W22-$U22 -> 0 | AK22: =X22-$U22 -> 0 | AL22: =Y22-$U22 -> 0
A23: PV | B23: =Detached!B23 -> Photovoltaic array variable Part L 2021 | C23: 3 | D23: kWp | F23: Roof mounted PV - variable [Output=1kWp] | M23: =IFERROR(VLOOKUP(F23,'[2]Elemental Database'!$A$4:$H$240,8,FALSE),0) -> 716.77612 | N23: =IFERROR(VLOOKUP(G23,'[2]Elemental Database'!$A$4:$H$240,8,FALSE),0) -> 0 | O23: =IFERROR(VLOOKUP(H23,'[2]Elemental Database'!$A$4:$H$240,8,FALSE),0) -> 0 | P23: =IFERROR(VLOOKUP(I23,'[2]Elemental Database'!$A$4:$H$240,8,FALSE),0) -> 0 | Q23: =IFERROR(VLOOKUP(J23,'[2]Elemental Database'!$A$4:$H$240,8,FALSE),0) -> 0 | R23: =IFERROR(VLOOKUP(K23,'[2]Elemental Database'!$A$4:$H$240,8,FALSE),0) -> 0 | T23: =M23*$C23 -> 2150.3284 | U23: =N23*$C23 -> 0 | V23: =O23*$C23 -> 0 | W23: =P23*$C23 -> 0 | X23: =Q23*$C23 -> 0 | Y23: =R23*$C23 -> 0 | AA23: =T23-$T23 -> 0 | AB23: =U23-$T23 -> -2150.3284 | AC23: =V23-$T23 -> -2150.3284 | AD23: =W23-$T23 -> -2150.3284 | AE23: =X23-$T23 -> -2150.3284 | AF23: =Y23-$T23 -> -2150.3284 | AG23: =T23-$U23 -> 2150.3284 | AH23: =U23-$U23 -> 0 | AI23: =V23-$U23 -> 0 | AJ23: =W23-$U23 -> 0 | AK23: =X23-$U23 -> 0 | AL23: =Y23-$U23 -> 0
A24: PV | B24: =Detached!B24 -> Photovoltaic array variable FHS Part L 2026 | C24: 4.8 | D24: kWp | G24: Roof mounted PV - variable [Output=1kWp] | M24: =IFERROR(VLOOKUP(F24,'[2]Elemental Database'!$A$4:$H$240,8,FALSE),0) -> 0 | N24: =IFERROR(VLOOKUP(G24,'[2]Elemental Database'!$A$4:$H$240,8,FALSE),0) -> 716.77612 | O24: =IFERROR(VLOOKUP(H24,'[2]Elemental Database'!$A$4:$H$240,8,FALSE),0) -> 0 | P24: =IFERROR(VLOOKUP(I24,'[2]Elemental Database'!$A$4:$H$240,8,FALSE),0) -> 0 | Q24: =IFERROR(VLOOKUP(J24,'[2]Elemental Database'!$A$4:$H$240,8,FALSE),0) -> 0 | R24: =IFERROR(VLOOKUP(K24,'[1]Elemental Database'!$A$4:$H$239,8,FALSE),0) -> 0 | T24: =M24*$C24 -> 0 | U24: =N24*$C24 -> 3440.5254 | V24: =O24*$C24 -> 0 | W24: =P24*$C24 -> 0 | X24: =Q24*$C24 -> 0 | Y24: =R24*$C24 -> 0 | AA24: =T24-$T24 -> 0 | AB24: =U24-$T24 -> 3440.5254 | AC24: =V24-$T24 -> 0 | AD24: =W24-$T24 -> 0 | AE24: =X24-$T24 -> 0 | AF24: =Y24-$T24 -> 0 | AG24: =T24-$U24 -> -3440.5254 | AH24: =U24-$U24 -> 0 | AI24: =V24-$U24 -> -3440.5254 | AJ24: =W24-$U24 -> -3440.5254 | AK24: =X24-$U24 -> -3440.5254 | AL24: =Y24-$U24 -> -3440.5254
A25: PV | B25: =Detached!B25 -> Photovoltaic array variable Level 1b (SHD 15-20) | C25: 4.8 | D25: kWp | H25: Roof mounted PV - variable [Output=1kWp] | M25: =IFERROR(VLOOKUP(F25,'[2]Elemental Database'!$A$4:$H$240,8,FALSE),0) -> 0 | N25: =IFERROR(VLOOKUP(G25,'[2]Elemental Database'!$A$4:$H$240,8,FALSE),0) -> 0 | O25: =IFERROR(VLOOKUP(H25,'[2]Elemental Database'!$A$4:$H$240,8,FALSE),0) -> 716.77612 | P25: =IFERROR(VLOOKUP(I25,'[2]Elemental Database'!$A$4:$H$240,8,FALSE),0) -> 0 | Q25: =IFERROR(VLOOKUP(J25,'[2]Elemental Database'!$A$4:$H$240,8,FALSE),0) -> 0 | R25: =IFERROR(VLOOKUP(K25,'[1]Elemental Database'!$A$4:$H$239,8,FALSE),0) -> 0 | T25: =M25*$C25 -> 0 | U25: =N25*$C25 -> 0 | V25: =O25*$C25 -> 3440.5254 | W25: =P25*$C25 -> 0 | X25: =Q25*$C25 -> 0 | Y25: =R25*$C25 -> 0 | AA25: =T25-$T25 -> 0 | AB25: =U25-$T25 -> 0 | AC25: =V25-$T25 -> 3440.5254 | AD25: =W25-$T25 -> 0 | AE25: =X25-$T25 -> 0 | AF25: =Y25-$T25 -> 0 | AG25: =T25-$U25 -> 0 | AH25: =U25-$U25 -> 0 | AI25: =V25-$U25 -> 3440.5254 | AJ25: =W25-$U25 -> 0 | AK25: =X25-$U25 -> 0 | AL25: =Y25-$U25 -> 0
A26: PV | B26: =Detached!B26 -> Photovoltaic array variable 100% TER + 10% TFEE | D26: kWp | I26: Roof mounted PV - variable [Output=1kWp] | M26: =IFERROR(VLOOKUP(F26,'[1]Elemental Database'!$A$4:$H$239,8,FALSE),0) -> 0 | N26: =IFERROR(VLOOKUP(G26,'[1]Elemental Database'!$A$4:$H$239,8,FALSE),0) -> 0 | O26: =IFERROR(VLOOKUP(H26,'[2]Elemental Database'!$A$4:$H$240,8,FALSE),0) -> 0 | P26: =IFERROR(VLOOKUP(I26,'[2]Elemental Database'!$A$4:$H$240,8,FALSE),0) -> 716.77612 | Q26: =IFERROR(VLOOKUP(J26,'[2]Elemental Database'!$A$4:$H$240,8,FALSE),0) -> 0 | R26: =IFERROR(VLOOKUP(K26,'[1]Elemental Database'!$A$4:$H$239,8,FALSE),0) -> 0 | T26: =M26*$C26 -> 0 | U26: =N26*$C26 -> 0 | V26: =O26*$C26 -> 0 | W26: =P26*$C26 -> 0 | X26: =Q26*$C26 -> 0 | Y26: =R26*$C26 -> 0 | AA26: =T26-$T26 -> 0 | AB26: =U26-$T26 -> 0 | AC26: =V26-$T26 -> 0 | AD26: =W26-$T26 -> 0 | AE26: =X26-$T26 -> 0 | AF26: =Y26-$T26 -> 0 | AG26: =T26-$U26 -> 0 | AH26: =U26-$U26 -> 0 | AI26: =V26-$U26 -> 0 | AJ26: =W26-$U26 -> 0 | AK26: =X26-$U26 -> 0 | AL26: =Y26-$U26 -> 0
A27: PV | B27: =Detached!B27 -> Photovoltaic array variable 100% TER + 10% TFEE + Unregulated | D27: kWp | J27: Roof mounted PV - variable [Output=1kWp] | M27: =IFERROR(VLOOKUP(F27,'[1]Elemental Database'!$A$4:$H$239,8,FALSE),0) -> 0 | N27: =IFERROR(VLOOKUP(G27,'[1]Elemental Database'!$A$4:$H$239,8,FALSE),0) -> 0 | O27: =IFERROR(VLOOKUP(H27,'[2]Elemental Database'!$A$4:$H$240,8,FALSE),0) -> 0 | P27: =IFERROR(VLOOKUP(I27,'[2]Elemental Database'!$A$4:$H$240,8,FALSE),0) -> 0 | Q27: =IFERROR(VLOOKUP(J27,'[2]Elemental Database'!$A$4:$H$240,8,FALSE),0) -> 716.77612 | R27: =IFERROR(VLOOKUP(K27,'[1]Elemental Database'!$A$4:$H$239,8,FALSE),0) -> 0 | T27: =M27*$C27 -> 0 | U27: =N27*$C27 -> 0 | V27: =O27*$C27 -> 0 | W27: =P27*$C27 -> 0 | X27: =Q27*$C27 -> 0 | Y27: =R27*$C27 -> 0 | AA27: =T27-$T27 -> 0 | AB27: =U27-$T27 -> 0 | AC27: =V27-$T27 -> 0 | AD27: =W27-$T27 -> 0 | AE27: =X27-$T27 -> 0 | AF27: =Y27-$T27 -> 0 | AG27: =T27-$U27 -> 0 | AH27: =U27-$U27 -> 0 | AI27: =V27-$U27 -> 0 | AJ27: =W27-$U27 -> 0 | AK27: =X27-$U27 -> 0 | AL27: =Y27-$U27 -> 0
A28: PV | B28: =Detached!B28 -> Photovoltaic array variable Level 2 (SHD 20/ EUI 35) | C28: 4.2 | D28: kWp | K28: Roof mounted PV - variable [Output=1kWp] | M28: =IFERROR(VLOOKUP(F28,'[1]Elemental Database'!$A$4:$H$239,8,FALSE),0) -> 0 | N28: =IFERROR(VLOOKUP(G28,'[1]Elemental Database'!$A$4:$H$239,8,FALSE),0) -> 0 | O28: =IFERROR(VLOOKUP(H28,'[2]Elemental Database'!$A$4:$H$240,8,FALSE),0) -> 0 | P28: =IFERROR(VLOOKUP(I28,'[2]Elemental Database'!$A$4:$H$240,8,FALSE),0) -> 0 | Q28: =IFERROR(VLOOKUP(J28,'[2]Elemental Database'!$A$4:$H$240,8,FALSE),0) -> 0 | R28: =IFERROR(VLOOKUP(K28,'[1]Elemental Database'!$A$4:$H$239,8,FALSE),0) -> 699.46269 | T28: =M28*$C28 -> 0 | U28: =N28*$C28 -> 0 | V28: =O28*$C28 -> 0 | W28: =P28*$C28 -> 0 | X28: =Q28*$C28 -> 0 | Y28: =R28*$C28 -> 2937.7433 | AA28: =T28-$T28 -> 0 | AB28: =U28-$T28 -> 0 | AC28: =V28-$T28 -> 0 | AD28: =W28-$T28 -> 0 | AE28: =X28-$T28 -> 0 | AF28: =Y28-$T28 -> 2937.7433 | AG28: =T28-$U28 -> 0 | AH28: =U28-$U28 -> 0 | AI28: =V28-$U28 -> 0 | AJ28: =W28-$U28 -> 0 | AK28: =X28-$U28 -> 0 | AL28: =Y28-$U28 -> 2937.7433
B29: Total | T29: =SUM(T6:T28) -> 51512.124 | U29: =SUM(U6:U28) -> 52832.214 | V29: =SUM(V6:V28) -> 56714.723 | W29: =SUM(W6:W28) -> 97173.005 | X29: =SUM(X6:X28) -> 50901.005 | Y29: =SUM(Y6:Y28) -> 57327.975
B30: Uplift | T30: =T29-$T$29 -> 0 | U30: =U29-$T$29 -> 1320.0904 | V30: =V29-$T$29 -> 5202.599 | W30: =W29-$T$29 -> 45660.881 | X30: =X29-$T$29 -> -611.11854 | Y30: =Y29-$T$29 -> 5815.8513 | AA30: =SUM(AA6:AA25) -> 0 | AB30: =SUM(AB6:AB28) -> 1320.0904 | AC30: =SUM(AC6:AC28) -> 5202.599 | AD30: =SUM(AD6:AD28) -> 45660.881 | AE30: =SUM(AE6:AE28) -> -611.11854 | AF30: =SUM(AF6:AF28) -> 5815.8513 | AG30: =SUM(AG6:AG28) -> -1320.0904 | AH30: =SUM(AH6:AH28) -> 0 | AI30: =SUM(AI6:AI28) -> 3882.5086 | ... AL30: =SUM(AL6:AL28) -> 4495.7609
B32: HEATING SYSTEM TYPE
B33: Element | C33: Quantity | F33: Specification | M33: Cost per unit | T33: Cost per building | AA33: Cost Δ per building | AI33: Cost Δ per building vs BAU 2021
C34: Quantity | D34: Unit | F34: Gas boiler | G34: =G5 -> Future Homes Standard | H34: =H5 -> Level 1a (SHD 30) | I34: =I5 -> 100% TER + 10% TFEE | J34: =J5 -> 100% TER + 10% TFEE + Unregulated | K34: =K5 -> Level 2 (SHD 20/ EUI 35) | M34: =F34 -> Gas boiler | N34: =G34 -> Future Homes Standard | O34: =H34 -> Level 1a (SHD 30) | P34: =I34 -> 100% TER + 10% TFEE | Q34: =J34 -> 100% TER + 10% TFEE + Unregulated | R34: =K34 -> Level 2 (SHD 20/ EUI 35) | T34: =F34 -> Gas boiler | U34: =G34 -> Future Homes Standard | V34: =H34 -> Level 1a (SHD 30) | W34: =I34 -> 100% TER + 10% TFEE | X34: =J34 -> 100% TER + 10% TFEE + Unregulated | Y34: =K34 -> Level 2 (SHD 20/ EUI 35) | AA34: =F34 -> Gas boiler | AB34: =G34 -> Future Homes Standard | AC34: =H34 -> Level 1a (SHD 30) | AD34: =I34 -> 100% TER + 10% TFEE | AE34: =J34 -> 100% TER + 10% TFEE + Unregulated | AF34: =K34 -> Level 2 (SHD 20/ EUI 35) | AG34: =AA34 -> Gas boiler | AH34: =AB34 -> Future Homes Standard | AI34: =AC34 -> Level 1a (SHD 30) | AJ34: =AD34 -> 100% TER + 10% TFEE | AK34: =AE34 -> 100% TER + 10% TFEE + Unregulated | AL34: =AF34 -> Level 2 (SHD 20/ EUI 35)
A35: Heatingsource | B35: Heating source | C35: =C2 -> 1 | D35: Nr | F35: Condensing gas boiler - combi [kW output=24kW] | G35: Air Source Heat Pump - higher eff (incl cylinder) [kW output=5kW] | H35: Air Source Heat Pump - higher eff (incl cylinder) [kW output=5kW] | I35: Air Source Heat Pump - higher eff (incl cylinder) [kW output=5kW] | J35: Air Source Heat Pump - higher eff (incl cylinder) [kW output=5kW] | K35: Air Source Heat Pump - higher eff (incl cylinder) [kW output=5kW] | M35: =VLOOKUP(Bungalow!F35,'[1]Elemental Database'!$A$4:$H$239,8,FALSE) -> 1640 | N35: =VLOOKUP(Bungalow!G35,'[1]Elemental Database'!$A$4:$H$239,8,FALSE) -> 6953.6 | O35: =VLOOKUP(Bungalow!H35,'[1]Elemental Database'!$A$4:$H$239,8,FALSE) -> 6953.6 | P35: =VLOOKUP(Bungalow!I35,'[1]Elemental Database'!$A$4:$H$239,8,FALSE) -> 6953.6 | Q35: =VLOOKUP(Bungalow!J35,'[1]Elemental Database'!$A$4:$H$239,8,FALSE) -> 6953.6 | R35: =VLOOKUP(Bungalow!K35,'[1]Elemental Database'!$A$4:$H$239,8,FALSE) -> 6953.6 | T35: =M35*$C35 -> 1640 | U35: =N35*$C35 -> 6953.6 | V35: =O35*$C35 -> 6953.6 | W35: =P35*$C35 -> 6953.6 | X35: =Q35*$C35 -> 6953.6 | Y35: =R35*$C35 -> 6953.6 | AA35: =T35-$T35 -> 0 | AB35: =U35-$T35 -> 5313.6 | AC35: =V35-$T35 -> 5313.6 | AD35: =W35-$T35 -> 5313.6 | AE35: =X35-$T35 -> 5313.6 | AF35: =Y35-$T35 -> 5313.6 | AG35: =T35-$U35 -> -5313.6 | AH35: =U35-$U35 -> 0 | AI35: =V35-$U35 -> 0 | AJ35: =W35-$U35 -> 0 | AK35: =X35-$U35 -> 0 | AL35: =Y35-$U35 -> 0
A36: Heatdistribution | B36: Heating distribution system | C36: =C19 -> 54.5 | D36: =D19 -> m2 | F36: Low temperature radiators [Per =1m2 GIFA] | G36: Low temperature radiators [Per =1m2 GIFA] | H36: Low temperature radiators [Per =1m2 GIFA] | I36: Low temperature radiators [Per =1m2 GIFA] | J36: Low temperature radiators [Per =1m2 GIFA] | K36: Low temperature radiators [Per =1m2 GIFA] | M36: =VLOOKUP(Bungalow!F36,'[1]Elemental Database'!$A$4:$H$239,8,FALSE) -> 32.8 | N36: =VLOOKUP(Bungalow!G36,'[1]Elemental Database'!$A$4:$H$239,8,FALSE) -> 32.8 | O36: =VLOOKUP(Bungalow!H36,'[1]Elemental Database'!$A$4:$H$239,8,FALSE) -> 32.8 | P36: =VLOOKUP(Bungalow!I36,'[1]Elemental Database'!$A$4:$H$239,8,FALSE) -> 32.8 | Q36: =VLOOKUP(Bungalow!J36,'[1]Elemental Database'!$A$4:$H$239,8,FALSE) -> 32.8 | R36: =VLOOKUP(Bungalow!K36,'[1]Elemental Database'!$A$4:$H$239,8,FALSE) -> 32.8 | T36: =M36*$C36 -> 1787.6 | U36: =N36*$C36 -> 1787.6 | V36: =O36*$C36 -> 1787.6 | W36: =P36*$C36 -> 1787.6 | X36: =Q36*$C36 -> 1787.6 | Y36: =R36*$C36 -> 1787.6 | AA36: =T36-$T36 -> 0 | AB36: =U36-$T36 -> 0 | AC36: =V36-$T36 -> 0 | AD36: =W36-$T36 -> 0 | AE36: =X36-$T36 -> 0 | AF36: =Y36-$T36 -> 0 | AG36: =T36-$U36 -> 0 | AH36: =U36-$U36 -> 0 | AI36: =V36-$U36 -> 0 | AJ36: =W36-$U36 -> 0 | AK36: =X36-$U36 -> 0 | AL36: =Y36-$U36 -> 0
A37: Hwstore | B37: Hotwater system | C37: =C2 -> 1 | D37: Nr | F37: none | G37: None | H37: None | I37: None | J37: None | K37: None | M37: =VLOOKUP(Bungalow!F37,'[1]Elemental Database'!$A$4:$H$239,8,FALSE) -> 0 | N37: =VLOOKUP(Bungalow!G37,'[1]Elemental Database'!$A$4:$H$239,8,FALSE) -> 0 | O37: =VLOOKUP(Bungalow!H37,'[1]Elemental Database'!$A$4:$H$239,8,FALSE) -> 0 | P37: =VLOOKUP(Bungalow!I37,'[1]Elemental Database'!$A$4:$H$239,8,FALSE) -> 0 | Q37: =VLOOKUP(Bungalow!J37,'[1]Elemental Database'!$A$4:$H$239,8,FALSE) -> 0 | R37: =VLOOKUP(Bungalow!K37,'[1]Elemental Database'!$A$4:$H$239,8,FALSE) -> 0 | T37: =M37*$C37 -> 0 | U37: =N37*$C37 -> 0 | V37: =O37*$C37 -> 0 | W37: =P37*$C37 -> 0 | X37: =Q37*$C37 -> 0 | Y37: =R37*$C37 -> 0 | AA37: =T37-$T37 -> 0 | AB37: =U37-$T37 -> 0 | AC37: =V37-$T37 -> 0 | AD37: =W37-$T37 -> 0 | AE37: =X37-$T37 -> 0 | AF37: =Y37-$T37 -> 0 | AG37: =T37-$U37 -> 0 | AH37: =U37-$U37 -> 0 | AI37: =V37-$U37 -> 0 | AJ37: =W37-$U37 -> 0 | AK37: =X37-$U37 -> 0 | AL37: =Y37-$U37 -> 0
A38: WWHR | B38: WWHR ground floor (tray) | C38: 1 | D38: Nr | F38: WWHR - pipe system [Showersave=QB1-21C] | G38: None | H38: None | I38: None | J38: None | K38: None | M38: =VLOOKUP(Bungalow!F38,'[1]Elemental Database'!$A$4:$H$239,8,FALSE) -> 489.81333 | N38: =VLOOKUP(Bungalow!G38,'[1]Elemental Database'!$A$4:$H$239,8,FALSE) -> 0 | O38: =VLOOKUP(Bungalow!H38,'[1]Elemental Database'!$A$4:$H$239,8,FALSE) -> 0 | P38: =VLOOKUP(Bungalow!I38,'[1]Elemental Database'!$A$4:$H$239,8,FALSE) -> 0 | Q38: =VLOOKUP(Bungalow!J38,'[1]Elemental Database'!$A$4:$H$239,8,FALSE) -> 0 | R38: =VLOOKUP(Bungalow!K38,'[1]Elemental Database'!$A$4:$H$239,8,FALSE) -> 0 | T38: =M38*$C38 -> 489.81333 | U38: =N38*$C38 -> 0 | V38: =O38*$C38 -> 0 | W38: =P38*$C38 -> 0 | X38: =Q38*$C38 -> 0 | Y38: =R38*$C38 -> 0 | AA38: =T38-$T38 -> 0 | AB38: =U38-$T38 -> -489.81333 | AC38: =V38-$T38 -> -489.81333 | AD38: =W38-$T38 -> -489.81333 | AE38: =X38-$T38 -> -489.81333 | AF38: =Y38-$T38 -> -489.81333 | AG38: =T38-$U38 -> 489.81333 | AH38: =U38-$U38 -> 0 | AI38: =V38-$U38 -> 0 | AJ38: =W38-$U38 -> 0 | AK38: =X38-$U38 -> 0 | AL38: =Y38-$U38 -> 0
A39: WWHR | B39: WWHR upper floor (pipe) | C39: 1 | D39: Nr | F39: None | G39: None | H39: None | I39: None | J39: None | K39: None | M39: =VLOOKUP(Bungalow!F39,'[1]Elemental Database'!$A$4:$H$239,8,FALSE) -> 0 | N39: =VLOOKUP(Bungalow!G39,'[1]Elemental Database'!$A$4:$H$239,8,FALSE) -> 0 | O39: =VLOOKUP(Bungalow!H39,'[1]Elemental Database'!$A$4:$H$239,8,FALSE) -> 0 | P39: =VLOOKUP(Bungalow!I39,'[1]Elemental Database'!$A$4:$H$239,8,FALSE) -> 0 | Q39: =VLOOKUP(Bungalow!J39,'[1]Elemental Database'!$A$4:$H$239,8,FALSE) -> 0 | R39: =VLOOKUP(Bungalow!K39,'[1]Elemental Database'!$A$4:$H$239,8,FALSE) -> 0 | T39: =M39*$C39 -> 0 | U39: =N39*$C39 -> 0 | V39: =O39*$C39 -> 0 | W39: =P39*$C39 -> 0 | X39: =Q39*$C39 -> 0 | Y39: =R39*$C39 -> 0 | AA39: =T39-$T39 -> 0 | AB39: =U39-$T39 -> 0 | AC39: =V39-$T39 -> 0 | AD39: =W39-$T39 -> 0 | AE39: =X39-$T39 -> 0 | AF39: =Y39-$T39 -> 0 | AG39: =T39-$U39 -> 0 | AH39: =U39-$U39 -> 0 | AI39: =V39-$U39 -> 0 | AJ39: =W39-$U39 -> 0 | AK39: =X39-$U39 -> 0 | AL39: =Y39-$U39 -> 0
A40: GasSupply | B40: Gas supply | D40: Nr | F40: None | G40: None | H40: None | I40: None | J40: None | K40: None | M40: =VLOOKUP(Bungalow!F40,'[1]Elemental Database'!$A$4:$H$239,8,FALSE) -> 0 | N40: =VLOOKUP(Bungalow!G40,'[1]Elemental Database'!$A$4:$H$239,8,FALSE) -> 0 | O40: =VLOOKUP(Bungalow!H40,'[1]Elemental Database'!$A$4:$H$239,8,FALSE) -> 0 | P40: =VLOOKUP(Bungalow!I40,'[1]Elemental Database'!$A$4:$H$239,8,FALSE) -> 0 | Q40: =VLOOKUP(Bungalow!J40,'[1]Elemental Database'!$A$4:$H$239,8,FALSE) -> 0 | R40: =VLOOKUP(Bungalow!K40,'[1]Elemental Database'!$A$4:$H$239,8,FALSE) -> 0 | T40: =M40*$C40 -> 0 | U40: =N40*$C40 -> 0 | V40: =O40*$C40 -> 0 | W40: =P40*$C40 -> 0 | X40: =Q40*$C40 -> 0 | Y40: =R40*$C40 -> 0 | AA40: =T40-$T40 -> 0 | AB40: =U40-$T40 -> 0 | AC40: =V40-$T40 -> 0 | AD40: =W40-$T40 -> 0 | AE40: =X40-$T40 -> 0 | AF40: =Y40-$T40 -> 0 | AG40: =T40-$U40 -> 0 | AH40: =U40-$U40 -> 0 | AI40: =V40-$U40 -> 0 | AJ40: =W40-$U40 -> 0 | AK40: =X40-$U40 -> 0 | AL40: =Y40-$U40 -> 0
A41: PowerSupply | B41: Power supply | C41: =C2 -> 1 | D41: Nr | F41: None | G41: Enhanced electrical supply - ASHP [kVa uplift=kVa] | H41: Enhanced electrical supply - ASHP [kVa uplift=kVa] | I41: Enhanced electrical supply - ASHP [kVa uplift=kVa] | J41: Enhanced electrical supply - ASHP [kVa uplift=kVa] | K41: Enhanced electrical supply - ASHP [kVa uplift=kVa] | M41: =VLOOKUP(Bungalow!F41,'[1]Elemental Database'!$A$4:$H$239,8,FALSE) -> 0 | N41: =VLOOKUP(Bungalow!G41,'[1]Elemental Database'!$A$4:$H$239,8,FALSE) -> 104.08533 | O41: =VLOOKUP(Bungalow!H41,'[1]Elemental Database'!$A$4:$H$239,8,FALSE) -> 104.08533 | P41: =VLOOKUP(Bungalow!I41,'[1]Elemental Database'!$A$4:$H$239,8,FALSE) -> 104.08533 | Q41: =VLOOKUP(Bungalow!J41,'[1]Elemental Database'!$A$4:$H$239,8,FALSE) -> 104.08533 | R41: =VLOOKUP(Bungalow!K41,'[1]Elemental Database'!$A$4:$H$239,8,FALSE) -> 104.08533 | T41: =M41*$C41 -> 0 | U41: =N41*$C41 -> 104.08533 | V41: =O41*$C41 -> 104.08533 | W41: =P41*$C41 -> 104.08533 | X41: =Q41*$C41 -> 104.08533 | Y41: =R41*$C41 -> 104.08533 | AA41: =T41-$T41 -> 0 | AB41: =U41-$T41 -> 104.08533 | AC41: =V41-$T41 -> 104.08533 | AD41: =W41-$T41 -> 104.08533 | AE41: =X41-$T41 -> 104.08533 | AF41: =Y41-$T41 -> 104.08533 | AG41: =T41-$U41 -> -104.08533 | AH41: =U41-$U41 -> 0 | AI41: =V41-$U41 -> 0 | AJ41: =W41-$U41 -> 0 | AK41: =X41-$U41 -> 0 | AL41: =Y41-$U41 -> 0
...

Sheet Detached
B1: =[2]Contents!B13 -> Detached house
B2: Units | C2: ='[2]Areas and specs'!C3 -> 1
B3: FABRIC, VENTILATION AND PV
B4: Element | C4: Quantity | F4: Specification | M4: Cost per unit | T4: Cost per building | AA4: Cost Δ per building vs BAU 2021 | AG4: Cost Δ per building vs BAU 2025
C5: Quantity | D5: Unit | F5: Part L 2021 | G5: FHS Part L 2026 | H5: Level 1b (SHD 15-20) | I5: 100% TER + 10% TFEE | J5: 100% TER + 10% TFEE + Unregulated | K5: Level 2 (SHD 20/ EUI 35) | M5: =F5 -> Part L 2021 | N5: =G5 -> FHS Part L 2026 | O5: =H5 -> Level 1b (SHD 15-20) | P5: =I5 -> 100% TER + 10% TFEE | Q5: =J5 -> 100% TER + 10% TFEE + Unregulated | R5: =K5 -> Level 2 (SHD 20/ EUI 35) | T5: =M5 -> Part L 2021 | U5: =N5 -> FHS Part L 2026 | V5: =O5 -> Level 1b (SHD 15-20) | W5: =P5 -> 100% TER + 10% TFEE | X5: =Q5 -> 100% TER + 10% TFEE + Unregulated | Y5: =R5 -> Level 2 (SHD 20/ EUI 35) | AA5: =M5 -> Part L 2021 | AB5: =N5 -> FHS Part L 2026 | AC5: =O5 -> Level 1b (SHD 15-20) | AD5: =P5 -> 100% TER + 10% TFEE | AE5: =Q5 -> 100% TER + 10% TFEE + Unregulated | AF5: =R5 -> Level 2 (SHD 20/ EUI 35) | AG5: =AA5 -> Part L 2021 | AH5: =AB5 -> FHS Part L 2026 | AI5: =AC5 -> Level 1b (SHD 15-20) | AJ5: =AD5 -> 100% TER + 10% TFEE | AK5: =AE5 -> 100% TER + 10% TFEE + Unregulated | AL5: =AF5 -> Level 2 (SHD 20/ EUI 35) | BQ5: BAU 2021 | BR5: FHS Option 1 | BS5: 100% TER | BT5: 100% TER + 10% TFEE | BU5: 100% TER + 10% TFEE + Unregulated | BV5: SHD/EUI/PV Net Zero | BY5: BAU 2021 | BZ5: FHS Option 1 | CA5: 100% TER | CB5: 100% TER + 10% TFEE | CC5: 100% TER + 10% TFEE + Unregulated | CD5: SHD/EUI/PV Net Zero
A6: Floor | B6: Floor | C6: ='[2]Areas and specs'!C6 -> 71 | D6: m2 | F6: Grd Floor [u-Value=0.13 W/m².K] | G6: Grd Floor [u-Value=0.13 W/m².K] | H6: Grd Floor [u-Value=0.13 W/m².K] | I6: Grd Floor [u-Value=0.12 W/m².K] | J6: Grd Floor [u-Value=0.12 W/m².K] | K6: Grd Floor [u-Value=0.09 W/m².K] | M6: =IFERROR(VLOOKUP(F6,'[2]Elemental Database'!$A$4:$H$252,8,FALSE),0) -> 188.784 | N6: =IFERROR(VLOOKUP(G6,'[2]Elemental Database'!$A$4:$H$252,8,FALSE),0) -> 188.784 | O6: =IFERROR(VLOOKUP(H6,'[2]Elemental Database'!$A$4:$H$252,8,FALSE),0) -> 188.784 | P6: =IFERROR(VLOOKUP(I6,'[2]Elemental Database'!$A$4:$H$252,8,FALSE),0) -> 193.2 | Q6: =IFERROR(VLOOKUP(J6,'[2]Elemental Database'!$A$4:$H$252,8,FALSE),0) -> 193.2 | R6: =IFERROR(VLOOKUP(K6,'[2]Elemental Database'!$A$4:$H$252,8,FALSE),0) -> 223.10697 | T6: =M6*$C6 -> 13403.664 | U6: =N6*$C6 -> 13403.664 | V6: =O6*$C6 -> 13403.664 | W6: =P6*$C6 -> 13717.2 | X6: =Q6*$C6 -> 13717.2 | Y6: =R6*$C6 -> 15840.595 | AA6: =T6-$T6 -> 0 | AB6: =U6-$T6 -> 0 | AC6: =V6-$T6 -> 0 | AD6: =W6-$T6 -> 313.536 | AE6: =X6-$T6 -> 313.536 | AF6: =Y6-$T6 -> 2436.9306 | AG6: =T6-$U6 -> 0 | AH6: =U6-$U6 -> 0 | AI6: =V6-$U6 -> 0 | AJ6: =W6-$U6 -> 313.536 | AK6: =X6-$U6 -> 313.536 | AL6: =Y6-$U6 -> 2436.9306 | BP6: Photovoltaic array fixed | BQ6: 1297.4229 | BR6: 1297.4229 | BS6: 1297.4229 | BT6: 1297.4229 | BU6: 1297.4229 | BV6: 1297.4229 | BX6: Photovoltaic array fixed | BY6: =AA22 -> 0 | BZ6: =AB22 -> 0 | CA6: =AC22 -> 0 | CB6: =AD22 -> 0 | CC6: =AE22 -> 0 | CD6: =AF22 -> 0
A7: Externalwall | B7: External walls | C7: ='[2]Areas and specs'!C7 -> 198 | D7: m2 | F7: Ex Wall - Trad+MW [u-Value=0.18 W/m².K] | G7: Ex Wall - Trad+MW [u-Value=0.18 W/m².K] | H7: Ex Wall - Trad+MW [u-Value=0.14 W/m².K] | I7: Ex Wall - Trad+MW [u-Value=0.12 W/m².K] | J7: Ex Wall - Trad+MW [u-Value=0.12 W/m².K] | K7: Ex Wall - Trad+MW [u-Value=0.1 W/m².K] | M7: =IFERROR(VLOOKUP(F7,'[2]Elemental Database'!$A$4:$H$252,8,FALSE),0) -> 272.59968 | N7: =IFERROR(VLOOKUP(G7,'[2]Elemental Database'!$A$4:$H$252,8,FALSE),0) -> 272.59968 | O7: =IFERROR(VLOOKUP(H7,'[2]Elemental Database'!$A$4:$H$252,8,FALSE),0) -> 278.40697 | P7: =IFERROR(VLOOKUP(I7,'[2]Elemental Database'!$A$4:$H$252,8,FALSE),0) -> 285.82707 | Q7: =IFERROR(VLOOKUP(J7,'[2]Elemental Database'!$A$4:$H$252,8,FALSE),0) -> 285.82707 | R7: =IFERROR(VLOOKUP(K7,'[2]Elemental Database'!$A$4:$H$252,8,FALSE),0) -> 292.56 | T7: =M7*$C7 -> 53974.737 | U7: =N7*$C7 -> 53974.737 | V7: =O7*$C7 -> 55124.58 | W7: =P7*$C7 -> 56593.76 | X7: =Q7*$C7 -> 56593.76 | Y7: =R7*$C7 -> 57926.88 | AA7: =T7-$T7 -> 0 | AB7: =U7-$T7 -> 0 | AC7: =V7-$T7 -> 1149.8431 | AD7: =W7-$T7 -> 2619.0229 | AE7: =X7-$T7 -> 2619.0229 | AF7: =Y7-$T7 -> 3952.1434 | AG7: =T7-$U7 -> 0 | AH7: =U7-$U7 -> 0 | AI7: =V7-$U7 -> 1149.8431 | AJ7: =W7-$U7 -> 2619.0229 | AK7: =X7-$U7 -> 2619.0229 | AL7: =Y7-$U7 -> 3952.1434 | BP7: Photovoltaic array variable BAU | BQ7: 2448.1194 | BR7: 3567.2597 | BS7: 3567.2597 | BT7: 3287.4746 | BU7: 4826.2925 | BV7: 3217.5284 | BX7: Photovoltaic array variable BAU | BY7: =SUM(AA23:AA28) -> 0 | BZ7: =SUM(AB23:AB28) -> 1046.4931 | CA7: =SUM(AC23:AC28) -> 1046.4931 | CB7: =SUM(AD23:AD28) -> -100.34866 | CC7: =SUM(AE23:AE28) -> 1476.5588 | CD7: =SUM(AF23:AF28) -> 1333.2036
